BEGIN:VCALENDAR
VERSION:2.0
PRODID:-//Squarespace Inc/Squarespace 6//v6//EN
BEGIN:VEVENT
UID:5b63ee6ef950b77f65a987fc@squarespace.com
DTSTAMP:20180803T055606Z
DTSTART:20180814T100000Z
DTEND:20180814T123000Z
SUMMARY:BC Badminton Social (All Levels) - Noble Park
GEO:-37.957387;145.185102
LOCATION:Badminton Connect Noble Park\, 7/450 Princes Highway\, Noble Park 
 North\, VIC\, 3174\, Australia
END:VEVENT
END:VCALENDAR
