BEGIN:VCALENDAR
VERSION:2.0
PRODID:-//Squarespace Inc/Squarespace 6//v6//EN
BEGIN:VEVENT
UID:5bbbfaf0104c7b0b1831deba@squarespace.com
DTSTAMP:20181009T004907Z
DTSTART:20181023T090000Z
DTEND:20181023T113000Z
SUMMARY:BC Badminton Social (All Levels) - Noble Park
GEO:-37.957387;145.185102
LOCATION:Badminton Connect Noble Park\, 7/450 Princes Highway\, Noble Park 
 North\, VIC\, 3174\, Australia
END:VEVENT
END:VCALENDAR
