BEGIN:VCALENDAR
VERSION:2.0
PRODID:-//Squarespace Inc/Squarespace 6//v6//EN
BEGIN:VEVENT
UID:5b63ef28f950b77f65a998fe@squarespace.com
DTSTAMP:20180803T055914Z
DTSTART:20180816T100000Z
DTEND:20180816T123000Z
SUMMARY:BC Badminton Social (Intermediate / Advanced) - Noble Park
GEO:-37.957387;145.185102
LOCATION:Badminton Connect Noble Park\, 7/450 Princes Highway\, Noble Park 
 North\, VIC\, 3174\, Australia
END:VEVENT
END:VCALENDAR
