BEGIN:VCALENDAR
VERSION:2.0
PRODID:-//Squarespace Inc/Squarespace 6//v6//EN
BEGIN:VEVENT
UID:5b8dd954898583fbc6c9ac92@squarespace.com
DTSTAMP:20180904T010118Z
DTSTART:20180913T100000Z
DTEND:20180913T123000Z
SUMMARY:BC Badminton Social (Intermediate / Advanced) - Noble Park
GEO:-37.957387;145.185102
LOCATION:Badminton Connect Noble Park\, 7/450 Princes Highway\, Noble Park 
 North\, VIC\, 3174\, Australia
END:VEVENT
END:VCALENDAR
