BEGIN:VCALENDAR
VERSION:2.0
PRODID:-//Squarespace Inc/Squarespace 6//v6//EN
BEGIN:VEVENT
UID:5b8dd9f54ae23722eb8221b7@squarespace.com
DTSTAMP:20181009T003440Z
DTSTART:20181004T100000Z
DTEND:20181004T123000Z
SUMMARY:BC Badminton Social (Intermediate / Advanced) - Noble Park
GEO:-37.957387;145.185102
LOCATION:Badminton Connect Noble Park\, 7/450 Princes Highway\, Noble Park 
 North\, VIC\, 3174\, Australia
END:VEVENT
END:VCALENDAR
