BEGIN:VCALENDAR
VERSION:2.0
PRODID:-//Squarespace Inc/Squarespace 6//v6//EN
BEGIN:VEVENT
UID:5bbbff1fb208fc1a2df7957b@squarespace.com
DTSTAMP:20181009T010650Z
DTSTART:20181025T090000Z
DTEND:20181025T113000Z
SUMMARY:BC Badminton Social (Intermediate / Advanced) - Noble Park
GEO:-37.957387;145.185102
LOCATION:Badminton Connect Noble Park\, 7/450 Princes Highway\, Noble Park 
 North\, VIC\, 3174\, Australia
END:VEVENT
END:VCALENDAR
