BEGIN:VCALENDAR
VERSION:2.0
PRODID:-//Squarespace Inc/Squarespace 6//v6//EN
BEGIN:VEVENT
UID:5b63ea321ae6cfd495e84e21@squarespace.com
DTSTAMP:20180803T053805Z
DTSTART:20180824T103000Z
DTEND:20180824T130000Z
SUMMARY:BC Badminton Social (Intermediate / Advanced) - Clayton
GEO:-37.910191;145.144112
LOCATION:Badminton Connect Clayton\, 13 Duerdin Street\, Clayton\, VIC\, 31
 68\, Australia
END:VEVENT
END:VCALENDAR
