BEGIN:VCALENDAR
VERSION:2.0
PRODID:-//Squarespace Inc/Squarespace 6//v6//EN
BEGIN:VEVENT
UID:5bbc00954785d3ab53887dfd@squarespace.com
DTSTAMP:20181009T011302Z
DTSTART:20181012T093000Z
DTEND:20181012T120000Z
SUMMARY:BC Badminton Social (Intermediate / Advanced) - Clayton
GEO:-37.910191;145.144112
LOCATION:Badminton Connect Clayton\, 13 Duerdin Street\, Clayton\, VIC\, 31
 68\, Australia
END:VEVENT
END:VCALENDAR
