BEGIN:VCALENDAR
VERSION:2.0
PRODID:-//Squarespace Inc/Squarespace 6//v6//EN
BEGIN:VEVENT
UID:5bbc0139104c7b0b183225d8@squarespace.com
DTSTAMP:20181009T011553Z
DTSTART:20181026T093000Z
DTEND:20181026T120000Z
SUMMARY:BC Badminton Social (Intermediate / Advanced) - Clayton
GEO:-37.910191;145.144112
LOCATION:Badminton Connect Clayton\, 13 Duerdin Street\, Clayton\, VIC\, 31
 68\, Australia
END:VEVENT
END:VCALENDAR
