BEGIN:VCALENDAR
VERSION:2.0
PRODID:-//Squarespace Inc/Squarespace 6//v6//EN
BEGIN:VEVENT
UID:5bbc016b1905f4d002b57500@squarespace.com
DTSTAMP:20181009T011648Z
DTSTART:20181102T093000Z
DTEND:20181102T120000Z
SUMMARY:BC Badminton Social (Intermediate / Advanced) - Clayton
GEO:-37.910191;145.144112
LOCATION:Badminton Connect Clayton\, 13 Duerdin Street\, Clayton\, VIC\, 31
 68\, Australia
END:VEVENT
END:VCALENDAR
