BEGIN:VCALENDAR
VERSION:2.0
PRODID:-//Squarespace Inc/Squarespace 6//v6//EN
BEGIN:VEVENT
UID:5b63ead41ae6cfd495e85d9a@squarespace.com
DTSTAMP:20180803T054056Z
DTSTART:20180831T103000Z
DTEND:20180831T130000Z
SUMMARY:BC Badminton Social (Intermediate / Advanced) - Clayton
GEO:-37.910191;145.144112
LOCATION:Badminton Connect Clayton\, 13 Duerdin Street\, Clayton\, VIC\, 31
 68\, Australia
END:VEVENT
END:VCALENDAR
