BEGIN:VCALENDAR
VERSION:2.0
PRODID:-//Squarespace Inc/Squarespace 6//v6//EN
BEGIN:VEVENT
UID:5b8dd2e2758d467f37810257@squarespace.com
DTSTAMP:20181009T011117Z
DTSTART:20181005T100000Z
DTEND:20181005T123000Z
SUMMARY:Storm BA Singles Social (All Levels) - Noble Park
GEO:-37.957387;145.185102
LOCATION:Badminton Connect Noble Park\, 7/450 Princes Highway\, Noble Park 
 North\, VIC\, 3174\, Australia
END:VEVENT
END:VCALENDAR
