BEGIN:VCALENDAR
VERSION:2.0
PRODID:-//Squarespace Inc/Squarespace 6//v6//EN
BEGIN:VEVENT
UID:5bbc004de79c7072268d3b1b@squarespace.com
DTSTAMP:20181009T011152Z
DTSTART:20181019T090000Z
DTEND:20181019T113000Z
SUMMARY:Storm BA Singles Social (All Levels) - Noble Park
GEO:-37.957387;145.185102
LOCATION:Badminton Connect Noble Park\, 7/450 Princes Highway\, Noble Park 
 North\, VIC\, 3174\, Australia
END:VEVENT
END:VCALENDAR
