BEGIN:VCALENDAR
VERSION:2.0
PRODID:-//Squarespace Inc/Squarespace 6//v6//EN
BEGIN:VEVENT
UID:5b63e9e76d2a735d7c307791@squarespace.com
DTSTAMP:20180803T053655Z
DTSTART:20180831T100000Z
DTEND:20180831T123000Z
SUMMARY:Storm BA Singles Social (All Levels) - Noble Park
GEO:-37.957387;145.185102
LOCATION:Badminton Connect Noble Park\, 7/450 Princes Highway\, Noble Park 
 North\, VIC\, 3174\, Australia
END:VEVENT
END:VCALENDAR
