BEGIN:VCALENDAR
VERSION:2.0
PRODID:-//Squarespace Inc/Squarespace 6//v6//EN
BEGIN:VEVENT
UID:5b63ed0a03ce6419bd163e84@squarespace.com
DTSTAMP:20180803T055012Z
DTSTART:20180826T100000Z
DTEND:20180826T123000Z
SUMMARY:Clement Badminton Social (All Levels) - Clayton
GEO:-37.910191;145.144112
LOCATION:Badminton Connect Clayton\, 13 Duerdin Street\, Clayton\, VIC\, 31
 68\, Australia
END:VEVENT
END:VCALENDAR
