BEGIN:VCALENDAR
VERSION:2.0
PRODID:-//Squarespace Inc/Squarespace 6//v6//EN
BEGIN:VEVENT
UID:5b63ece503ce6419bd163b52@squarespace.com
DTSTAMP:20180803T054938Z
DTSTART:20180812T100000Z
DTEND:20180812T123000Z
SUMMARY:Clement Badminton Social (All Levels) - Clayton
GEO:-37.910191;145.144112
LOCATION:Badminton Connect Clayton\, 13 Duerdin Street\, Clayton\, VIC\, 31
 68\, Australia
END:VEVENT
END:VCALENDAR
