BEGIN:VCALENDAR
VERSION:2.0
PRODID:-//Squarespace Inc/Squarespace 6//v6//EN
BEGIN:VEVENT
UID:5bbbf85deef1a19f5d3101dd@squarespace.com
DTSTAMP:20181009T003801Z
DTSTART:20181028T090000Z
DTEND:20181028T113000Z
SUMMARY:Clement Badminton Social (All Levels) - Clayton
GEO:-37.910191;145.144112
LOCATION:Badminton Connect Clayton\, 13 Duerdin Street\, Clayton\, VIC\, 31
 68\, Australia
END:VEVENT
END:VCALENDAR
