BEGIN:VCALENDAR
VERSION:2.0
PRODID:-//Squarespace Inc/Squarespace 6//v6//EN
BEGIN:VEVENT
UID:5b63e7db0e2e7259c33c1309@squarespace.com
DTSTAMP:20180803T052806Z
DTSTART:20180825T040000Z
DTEND:20180825T060000Z
SUMMARY:Dynamic Divas Badminton Social (All Levels) - Hallam
GEO:-38.009953;145.25958
LOCATION:Badminton Connect Hallam\, 22 Technology Circuit\, Hallam\, VIC\, 
 3803\, Australia
END:VEVENT
END:VCALENDAR
