BEGIN:VCALENDAR
VERSION:2.0
PRODID:-//Squarespace Inc/Squarespace 6//v6//EN
BEGIN:VEVENT
UID:5b8dd1c1f950b79a4feec1eb@squarespace.com
DTSTAMP:20180904T002903Z
DTSTART:20181006T040000Z
DTEND:20181006T060000Z
SUMMARY:Dynamic Divas Badminton Social (All Levels) - Hallam
GEO:-38.009953;145.25958
LOCATION:Badminton Connect Hallam\, 22 Technology Circuit\, Hallam\, VIC\, 
 3803\, Australia
END:VEVENT
END:VCALENDAR
