BEGIN:VCALENDAR
VERSION:2.0
PRODID:-//Squarespace Inc/Squarespace 6//v6//EN
BEGIN:VEVENT
UID:5b8dd1d8f950b79a4feec2b5@squarespace.com
DTSTAMP:20181009T003553Z
DTSTART:20181013T030000Z
DTEND:20181013T050000Z
SUMMARY:Dynamic Divas Badminton Social (All Levels) - Hallam
GEO:-38.009953;145.25958
LOCATION:Badminton Connect Hallam\, 22 Technology Circuit\, Hallam\, VIC\, 
 3803\, Australia
END:VEVENT
END:VCALENDAR
