BEGIN:VCALENDAR
VERSION:2.0
PRODID:-//Squarespace Inc/Squarespace 6//v6//EN
BEGIN:VEVENT
UID:5bbbf7e91905f4d002b50415@squarespace.com
DTSTAMP:20181009T003604Z
DTSTART:20181020T030000Z
DTEND:20181020T050000Z
SUMMARY:Dynamic Divas Badminton Social (All Levels) - Hallam
GEO:-38.009953;145.25958
LOCATION:Badminton Connect Hallam\, 22 Technology Circuit\, Hallam\, VIC\, 
 3803\, Australia
END:VEVENT
END:VCALENDAR
