BEGIN:VCALENDAR
VERSION:2.0
PRODID:-//Squarespace Inc/Squarespace 6//v6//EN
BEGIN:VEVENT
UID:5b8dd18b032be4d3b7e8014b@squarespace.com
DTSTAMP:20180904T002804Z
DTSTART:20180915T040000Z
DTEND:20180915T060000Z
SUMMARY:Dynamic Divas Badminton Social (All Levels) - Hallam
GEO:-38.009953;145.25958
LOCATION:Badminton Connect Hallam\, 22 Technology Circuit\, Hallam\, VIC\, 
 3803\, Australia
END:VEVENT
END:VCALENDAR
