BEGIN:VCALENDAR
VERSION:2.0
PRODID:-//Squarespace Inc/Squarespace 6//v6//EN
BEGIN:VEVENT
UID:5b3c21d270a6ad4a1369b7af@squarespace.com
DTSTAMP:20180803T055115Z
DTSTART:20180807T103000Z
DTEND:20180807T123000Z
SUMMARY:Hung Pham Badminton Social (All Levels) - Clayton
GEO:-37.910191;145.144112
LOCATION:Badminton Connect Clayton\, 13 Duerdin Street\, Clayton\, VIC\, 31
 68\, Australia
END:VEVENT
END:VCALENDAR
