BEGIN:VCALENDAR
VERSION:2.0
PRODID:-//Squarespace Inc/Squarespace 6//v6//EN
BEGIN:VEVENT
UID:5b63ed836d2a735d7c30cf0b@squarespace.com
DTSTAMP:20180803T055212Z
DTSTART:20180821T103000Z
DTEND:20180821T123000Z
SUMMARY:Hung Pham Badminton Social (All Levels) - Clayton
GEO:-37.910191;145.144112
LOCATION:Badminton Connect Clayton\, 13 Duerdin Street\, Clayton\, VIC\, 31
 68\, Australia
END:VEVENT
END:VCALENDAR
