BEGIN:VCALENDAR
VERSION:2.0
PRODID:-//Squarespace Inc/Squarespace 6//v6//EN
BEGIN:VEVENT
UID:5b3c21edaa4a9983df4c7bc4@squarespace.com
DTSTAMP:20180704T012513Z
DTSTART:20180717T103000Z
DTEND:20180717T123000Z
SUMMARY:Hung Pham Badminton Social (All Levels) - Clayton
GEO:-37.910191;145.144112
LOCATION:Badminton Connect Clayton\, 13 Duerdin Street\, Clayton\, VIC\, 31
 68\, Australia
END:VEVENT
END:VCALENDAR
