BEGIN:VCALENDAR
VERSION:2.0
PRODID:-//Squarespace Inc/Squarespace 6//v6//EN
BEGIN:VEVENT
UID:5b8dd7a62b6a289ccc41fa41@squarespace.com
DTSTAMP:20181009T004419Z
DTSTART:20181002T103000Z
DTEND:20181002T123000Z
SUMMARY:Hung Pham Badminton Social (All Levels) - Clayton
GEO:-37.910191;145.144112
LOCATION:Badminton Connect Clayton\, 13 Duerdin Street\, Clayton\, VIC\, 31
 68\, Australia
END:VEVENT
END:VCALENDAR
