BEGIN:VCALENDAR
VERSION:2.0
PRODID:-//Squarespace Inc/Squarespace 6//v6//EN
BEGIN:VEVENT
UID:5bbbfa42f4e1fccefc7c471c@squarespace.com
DTSTAMP:20181009T004604Z
DTSTART:20181030T093000Z
DTEND:20181030T113000Z
SUMMARY:Hung Pham Badminton Social (All Levels) - Clayton
GEO:-37.910191;145.144112
LOCATION:Badminton Connect Clayton\, 13 Duerdin Street\, Clayton\, VIC\, 31
 68\, Australia
END:VEVENT
END:VCALENDAR
