BEGIN:VCALENDAR
VERSION:2.0
PRODID:-//Squarespace Inc/Squarespace 6//v6//EN
BEGIN:VEVENT
UID:5bbbf9a7b208fc1a2df74ea8@squarespace.com
DTSTAMP:20181009T004328Z
DTSTART:20181023T080000Z
DTEND:20181023T110000Z
SUMMARY:BC Badminton Social (Beginners / Intermediate) - Hallam
GEO:-38.009953;145.25958
LOCATION:Badminton Connect Hallam\, 22 Technology Circuit\, Hallam\, VIC\, 
 3803\, Australia
END:VEVENT
END:VCALENDAR
