BEGIN:VCALENDAR
VERSION:2.0
PRODID:-//Squarespace Inc/Squarespace 6//v6//EN
BEGIN:VEVENT
UID:5b63ec6f562fa7916718ea23@squarespace.com
DTSTAMP:20180803T054737Z
DTSTART:20180812T023000Z
DTEND:20180812T053000Z
SUMMARY:BC Badminton Social (Beginners / Intermediate) - Hallam
GEO:-38.009953;145.25958
LOCATION:Badminton Connect Hallam\, 22 Technology Circuit\, Hallam\, VIC\, 
 3803\, Australia
END:VEVENT
END:VCALENDAR
