BEGIN:VCALENDAR
VERSION:2.0
PRODID:-//Squarespace Inc/Squarespace 6//v6//EN
BEGIN:VEVENT
UID:5b8dd5c94ae23722eb81efbc@squarespace.com
DTSTAMP:20180904T004610Z
DTSTART:20180930T023000Z
DTEND:20180930T053000Z
SUMMARY:BC Badminton Social (Beginners / Intermediate) - Hallam
GEO:-38.009953;145.25958
LOCATION:Badminton Connect Hallam\, 22 Technology Circuit\, Hallam\, VIC\, 
 3803\, Australia
END:VEVENT
END:VCALENDAR
