BEGIN:VCALENDAR
VERSION:2.0
PRODID:-//Squarespace Inc/Squarespace 6//v6//EN
BEGIN:VEVENT
UID:5b63ec8a352f53676d5cb09a@squarespace.com
DTSTAMP:20180803T054806Z
DTSTART:20180819T023000Z
DTEND:20180819T053000Z
SUMMARY:BC Badminton Social (Beginners / Intermediate) - Hallam
GEO:-38.009953;145.25958
LOCATION:Badminton Connect Hallam\, 22 Technology Circuit\, Hallam\, VIC\, 
 3803\, Australia
END:VEVENT
END:VCALENDAR
