BEGIN:VCALENDAR
VERSION:2.0
PRODID:-//Squarespace Inc/Squarespace 6//v6//EN
BEGIN:VEVENT
UID:5b8dd4ff758d467f378119cf@squarespace.com
DTSTAMP:20180904T004254Z
DTSTART:20180910T100000Z
DTEND:20180910T130000Z
SUMMARY:Minh Dang Badminton Social (Intermediate) - Clayton
GEO:-37.910191;145.144112
LOCATION:Badminton Connect\, 13 Duerdin Street\, Clayton\, VIC\, 3168\, Aus
 tralia
END:VEVENT
END:VCALENDAR
