BEGIN:VCALENDAR
VERSION:2.0
PRODID:-//Squarespace Inc/Squarespace 6//v6//EN
BEGIN:VEVENT
UID:5b8dd531aa4a99a4983d3a55@squarespace.com
DTSTAMP:20180904T004339Z
DTSTART:20180924T100000Z
DTEND:20180924T130000Z
SUMMARY:Minh Dang Badminton Social (Intermediate) - Clayton
GEO:-37.910191;145.144112
LOCATION:Badminton Connect\, 13 Duerdin Street\, Clayton\, VIC\, 3168\, Aus
 tralia
END:VEVENT
END:VCALENDAR
