BEGIN:VCALENDAR
VERSION:2.0
PRODID:-//Squarespace Inc/Squarespace 6//v6//EN
BEGIN:VEVENT
UID:5b8dd54e8a922d7beeaba2cb@squarespace.com
DTSTAMP:20181009T003942Z
DTSTART:20181001T100000Z
DTEND:20181001T130000Z
SUMMARY:Minh Dang Badminton Social (Intermediate) - Clayton
GEO:-37.910191;145.144112
LOCATION:Badminton Connect\, 13 Duerdin Street\, Clayton\, VIC\, 3168\, Aus
 tralia
END:VEVENT
END:VCALENDAR
