BEGIN:VCALENDAR
VERSION:2.0
PRODID:-//Squarespace Inc/Squarespace 6//v6//EN
BEGIN:VEVENT
UID:5b63ebf403ce6419bd162487@squarespace.com
DTSTAMP:20180803T054533Z
DTSTART:20180813T100000Z
DTEND:20180813T130000Z
SUMMARY:Minh Dang Badminton Social (Intermediate) - Clayton
GEO:-37.910191;145.144112
LOCATION:Badminton Connect\, 13 Duerdin Street\, Clayton\, VIC\, 3168\, Aus
 tralia
END:VEVENT
END:VCALENDAR
