BEGIN:VCALENDAR
VERSION:2.0
PRODID:-//Squarespace Inc/Squarespace 6//v6//EN
BEGIN:VEVENT
UID:5b63ec14575d1f336e0bf6a6@squarespace.com
DTSTAMP:20180803T054605Z
DTSTART:20180820T100000Z
DTEND:20180820T130000Z
SUMMARY:Minh Dang Badminton Social (Intermediate) - Clayton
GEO:-37.910191;145.144112
LOCATION:Badminton Connect\, 13 Duerdin Street\, Clayton\, VIC\, 3168\, Aus
 tralia
END:VEVENT
END:VCALENDAR
