BEGIN:VCALENDAR
VERSION:2.0
PRODID:-//Squarespace Inc/Squarespace 6//v6//EN
BEGIN:VEVENT
UID:5b63e774aa4a9994b7e3cc55@squarespace.com
DTSTAMP:20180803T052625Z
DTSTART:20180811T100000Z
DTEND:20180811T130000Z
SUMMARY:Michael Loong Badminton Social (All Levels)  - Clayton
GEO:-37.910191;145.144112
LOCATION:Badminton Connect Clayton\, 13 Duerdin Street\, Clayton\, VIC\, 31
 68\, Australia
END:VEVENT
END:VCALENDAR
