BEGIN:VCALENDAR
VERSION:2.0
PRODID:-//Squarespace Inc/Squarespace 6//v6//EN
BEGIN:VEVENT
UID:5b8dd14b352f53facc336a2c@squarespace.com
DTSTAMP:20180904T002705Z
DTSTART:20180901T100000Z
DTEND:20180901T130000Z
SUMMARY:Michael Loong Badminton Social (All Levels)  - Clayton
GEO:-37.910191;145.144112
LOCATION:Badminton Connect Clayton\, 13 Duerdin Street\, Clayton\, VIC\, 31
 68\, Australia
END:VEVENT
END:VCALENDAR
