BEGIN:VCALENDAR
VERSION:2.0
PRODID:-//Squarespace Inc/Squarespace 6//v6//EN
BEGIN:VEVENT
UID:5b8dd20d40ec9a2651f1095e@squarespace.com
DTSTAMP:20180904T003014Z
DTSTART:20180915T100000Z
DTEND:20180915T130000Z
SUMMARY:Michael Loong Badminton Social (All Levels)  - Clayton
GEO:-37.910191;145.144112
LOCATION:Badminton Connect Clayton\, 13 Duerdin Street\, Clayton\, VIC\, 31
 68\, Australia
END:VEVENT
END:VCALENDAR
