BEGIN:VCALENDAR
VERSION:2.0
PRODID:-//Squarespace Inc/Squarespace 6//v6//EN
BEGIN:VEVENT
UID:5b8dd8ae0e2e725ec16746cc@squarespace.com
DTSTAMP:20180904T005840Z
DTSTART:20180920T100000Z
DTEND:20180920T120000Z
SUMMARY:BC Spring Chicken Badminton Social (Beginners only) - Noble Park
GEO:-37.910191;145.144112
LOCATION:Badminton Connect Noble Park\, 7/450 Princes Highway\, Noble Park 
 North\, VIC\, 3174\, Australia
END:VEVENT
END:VCALENDAR
