BEGIN:VCALENDAR
VERSION:2.0
PRODID:-//Squarespace Inc/Squarespace 6//v6//EN
BEGIN:VEVENT
UID:5bbbffd04785d3ab538875a0@squarespace.com
DTSTAMP:20181009T010947Z
DTSTART:20181025T090000Z
DTEND:20181025T110000Z
SUMMARY:BC Spring Chicken Badminton Social (Beginners only) - Noble Park
GEO:-37.910191;145.144112
LOCATION:Badminton Connect Noble Park\, 7/450 Princes Highway\, Noble Park 
 North\, VIC\, 3174\, Australia
END:VEVENT
END:VCALENDAR
