BEGIN:VCALENDAR
VERSION:2.0
PRODID:-//Squarespace Inc/Squarespace 6//v6//EN
BEGIN:VEVENT
UID:5b8dd3aacd8366d4a0277fe7@squarespace.com
DTSTAMP:20180904T003708Z
DTSTART:20180905T103000Z
DTEND:20180905T130000Z
SUMMARY:BC Badminton Social (Beginner / Intermediate) - Clayton
GEO:-37.909889;145.144169
LOCATION:Badminton Connect Clayton\, 13 Duerdin Street\, Clayton\, VIC\, 31
 68\, Australia
END:VEVENT
END:VCALENDAR
