BEGIN:VCALENDAR
VERSION:2.0
PRODID:-//Squarespace Inc/Squarespace 6//v6//EN
BEGIN:VEVENT
UID:5b8dd4b2f950b79a4feee392@squarespace.com
DTSTAMP:20181009T005402Z
DTSTART:20181003T103000Z
DTEND:20181003T130000Z
SUMMARY:BC Badminton Social (Beginner / Intermediate) - Clayton
GEO:-37.909889;145.144169
LOCATION:Badminton Connect Clayton\, 13 Duerdin Street\, Clayton\, VIC\, 31
 68\, Australia
END:VEVENT
END:VCALENDAR
