BEGIN:VCALENDAR
VERSION:2.0
PRODID:-//Squarespace Inc/Squarespace 6//v6//EN
BEGIN:VEVENT
UID:5bbbfc59a4222f1603f7a069@squarespace.com
DTSTAMP:20181009T005624Z
DTSTART:20181107T093000Z
DTEND:20181107T120000Z
SUMMARY:BC Badminton Social (Beginner / Intermediate) - Clayton
GEO:-37.909889;145.144169
LOCATION:Badminton Connect Clayton\, 13 Duerdin Street\, Clayton\, VIC\, 31
 68\, Australia
END:VEVENT
END:VCALENDAR
