BEGIN:VCALENDAR
VERSION:2.0
PRODID:-//Squarespace Inc/Squarespace 6//v6//EN
BEGIN:VEVENT
UID:5bbbfc7b652dea42d697296d@squarespace.com
DTSTAMP:20181009T005538Z
DTSTART:20181031T093000Z
DTEND:20181031T120000Z
SUMMARY:BC Badminton Social (Beginner / Intermediate) - Clayton
GEO:-37.909889;145.144169
LOCATION:Badminton Connect Clayton\, 13 Duerdin Street\, Clayton\, VIC\, 31
 68\, Australia
END:VEVENT
END:VCALENDAR
