BEGIN:VCALENDAR
VERSION:2.0
PRODID:-//Squarespace Inc/Squarespace 6//v6//EN
BEGIN:VEVENT
UID:5b63eb86575d1f336e0bea56@squarespace.com
DTSTAMP:20180803T054343Z
DTSTART:20180822T103000Z
DTEND:20180822T130000Z
SUMMARY:BC Badminton Social (Beginner / Intermediate) - Clayton
GEO:-37.909889;145.144169
LOCATION:Badminton Connect Clayton\, 13 Duerdin Street\, Clayton\, VIC\, 31
 68\, Australia
END:VEVENT
END:VCALENDAR
